BEGIN:VCALENDAR
VERSION:2.0
PRODID:-//Pain Story Project - ECPv6.15.17.1//NONSGML v1.0//EN
CALSCALE:GREGORIAN
METHOD:PUBLISH
X-WR-CALNAME:Pain Story Project
X-ORIGINAL-URL:https://www.painstoryproject.org
X-WR-CALDESC:Events for Pain Story Project
REFRESH-INTERVAL;VALUE=DURATION:PT1H
X-Robots-Tag:noindex
X-PUBLISHED-TTL:PT1H
BEGIN:VTIMEZONE
TZID:America/Denver
BEGIN:DAYLIGHT
TZOFFSETFROM:-0700
TZOFFSETTO:-0600
TZNAME:MDT
DTSTART:20250309T090000
END:DAYLIGHT
BEGIN:STANDARD
TZOFFSETFROM:-0600
TZOFFSETTO:-0700
TZNAME:MST
DTSTART:20251102T080000
END:STANDARD
BEGIN:DAYLIGHT
TZOFFSETFROM:-0700
TZOFFSETTO:-0600
TZNAME:MDT
DTSTART:20260308T090000
END:DAYLIGHT
BEGIN:STANDARD
TZOFFSETFROM:-0600
TZOFFSETTO:-0700
TZNAME:MST
DTSTART:20261101T080000
END:STANDARD
BEGIN:DAYLIGHT
TZOFFSETFROM:-0700
TZOFFSETTO:-0600
TZNAME:MDT
DTSTART:20270314T090000
END:DAYLIGHT
BEGIN:STANDARD
TZOFFSETFROM:-0600
TZOFFSETTO:-0700
TZNAME:MST
DTSTART:20271107T080000
END:STANDARD
END:VTIMEZONE
BEGIN:VEVENT
DTSTART;TZID=America/Denver:20260507T110000
DTEND;TZID=America/Denver:20260507T120000
DTSTAMP:20260424T022913
CREATED:20260205T173007Z
LAST-MODIFIED:20260226T230932Z
UID:1197-1778151600-1778155200@www.painstoryproject.org
SUMMARY:Spring 2026 Explain Pain® Group
DESCRIPTION:Six Thursdays\, May 7-June 11\, 2026 \n11 am MDT / 7 pm CEST / 5 am AEST (Wednesday)\nOne-hour Online Zoom Meetings\nLimited to 15 participants
URL:https://www.painstoryproject.org/event/spring-2026-ep-group/
END:VEVENT
END:VCALENDAR